BEGIN:VCALENDAR
VERSION:2.0
PRODID:-//Blues Bar Tring - ECPv6.15.16//NONSGML v1.0//EN
CALSCALE:GREGORIAN
METHOD:PUBLISH
X-ORIGINAL-URL:https://bluesbartring.co.uk
X-WR-CALDESC:Events for Blues Bar Tring
REFRESH-INTERVAL;VALUE=DURATION:PT1H
X-Robots-Tag:noindex
X-PUBLISHED-TTL:PT1H
BEGIN:VTIMEZONE
TZID:Europe/London
BEGIN:DAYLIGHT
TZOFFSETFROM:+0000
TZOFFSETTO:+0100
TZNAME:BST
DTSTART:20230326T010000
END:DAYLIGHT
BEGIN:STANDARD
TZOFFSETFROM:+0100
TZOFFSETTO:+0000
TZNAME:GMT
DTSTART:20231029T010000
END:STANDARD
BEGIN:DAYLIGHT
TZOFFSETFROM:+0000
TZOFFSETTO:+0100
TZNAME:BST
DTSTART:20240331T010000
END:DAYLIGHT
BEGIN:STANDARD
TZOFFSETFROM:+0100
TZOFFSETTO:+0000
TZNAME:GMT
DTSTART:20241027T010000
END:STANDARD
BEGIN:DAYLIGHT
TZOFFSETFROM:+0000
TZOFFSETTO:+0100
TZNAME:BST
DTSTART:20250330T010000
END:DAYLIGHT
BEGIN:STANDARD
TZOFFSETFROM:+0100
TZOFFSETTO:+0000
TZNAME:GMT
DTSTART:20251026T010000
END:STANDARD
END:VTIMEZONE
BEGIN:VEVENT
DTSTART;TZID=Europe/London:20240613T190000
DTEND;TZID=Europe/London:20240613T230000
DTSTAMP:20260425T114931
CREATED:20240320T210410Z
LAST-MODIFIED:20240320T210908Z
UID:6971-1718305200-1718319600@bluesbartring.co.uk
SUMMARY:Jimmy Regal & The Royals
DESCRIPTION:Jimmy Regal & The Royals \n \nNominated by the UK blues federation for and of the year and album of the year. Jimmy Regal and the Royals are one of the UK’s most exciting and original bands\, with growing acclaim locally and internationally. With their latest album topping UK and international charts and extensive live performances with globally recognised artists\, along with enthusiastic reviews from major music publications and radio DJ’s\, Jimmy Regal and the Royals stand out from the crowd with a powerful sound that translates to stellar live performances. The band have recorded with world-renowned artists and explores music and rhythms from New Orleans and North Mississippi to Senegal and Canvey Island. \nWebsite
URL:https://bluesbartring.co.uk/event/jimmy-regal-the-royals/
LOCATION:Herts
ATTACH;FMTTYPE=image/jpeg:https://bluesbartring.co.uk/wp-content/uploads/2024/03/jimmy-regal-the-royals.jpg
END:VEVENT
END:VCALENDAR