BEGIN:VCALENDAR
VERSION:2.0
PRODID:-//Blues Bar Tring - ECPv6.15.16//NONSGML v1.0//EN
CALSCALE:GREGORIAN
METHOD:PUBLISH
X-ORIGINAL-URL:https://bluesbartring.co.uk
X-WR-CALDESC:Events for Blues Bar Tring
REFRESH-INTERVAL;VALUE=DURATION:PT1H
X-Robots-Tag:noindex
X-PUBLISHED-TTL:PT1H
BEGIN:VTIMEZONE
TZID:Europe/London
BEGIN:DAYLIGHT
TZOFFSETFROM:+0000
TZOFFSETTO:+0100
TZNAME:BST
DTSTART:20250330T010000
END:DAYLIGHT
BEGIN:STANDARD
TZOFFSETFROM:+0100
TZOFFSETTO:+0000
TZNAME:GMT
DTSTART:20251026T010000
END:STANDARD
BEGIN:DAYLIGHT
TZOFFSETFROM:+0000
TZOFFSETTO:+0100
TZNAME:BST
DTSTART:20260329T010000
END:DAYLIGHT
BEGIN:STANDARD
TZOFFSETFROM:+0100
TZOFFSETTO:+0000
TZNAME:GMT
DTSTART:20261025T010000
END:STANDARD
BEGIN:DAYLIGHT
TZOFFSETFROM:+0000
TZOFFSETTO:+0100
TZNAME:BST
DTSTART:20270328T010000
END:DAYLIGHT
BEGIN:STANDARD
TZOFFSETFROM:+0100
TZOFFSETTO:+0000
TZNAME:GMT
DTSTART:20271031T010000
END:STANDARD
END:VTIMEZONE
BEGIN:VEVENT
DTSTART;TZID=Europe/London:20260903T190000
DTEND;TZID=Europe/London:20260903T230000
DTSTAMP:20260420T194924
CREATED:20251018T101838Z
LAST-MODIFIED:20251231T172029Z
UID:9535-1788462000-1788476400@bluesbartring.co.uk
SUMMARY:An Evening with Ma Bessie
DESCRIPTION:An Evening with Ma Bessie  \n \nBuilding on her passion for the Empress of the Blues\, Julia Titus performs as Ma Bessie\, sharing the music of Bessie Smith and her contemporaries with a new generation of listeners. Julia’s rich\, warm vocal sound brings classic blues and jazz tunes from the inter-war years to life\, alongside original songs and hand-picked covers. \nThis intimate new show features fresh\, unheard material while keeping all the favourites that audiences love. The Ma Bessie repertoire includes classics such as ‘Careless Love’\, ‘Send me to the ‘lectric chair’\, ‘I forgot to say I love you’ and ‘Someone is knocking my door’. \nWith sell-out performances across the UK and a growing reputation for authentic sound\, “An Evening with Ma Bessie” promises to add style\, class and excitement to your evening. \nFacebook
URL:https://bluesbartring.co.uk/event/ma-bessie-after-hours-show-friday-2/
LOCATION:Herts
CATEGORIES:Gig
ATTACH;FMTTYPE=image/jpeg:https://bluesbartring.co.uk/wp-content/uploads/2023/01/Ma-Bessie.jpg
END:VEVENT
BEGIN:VEVENT
DTSTART;TZID=Europe/London:20260917T190000
DTEND;TZID=Europe/London:20260917T230000
DTSTAMP:20260420T194924
CREATED:20251212T114826Z
LAST-MODIFIED:20260113T154646Z
UID:9888-1789671600-1789686000@bluesbartring.co.uk
SUMMARY:Adam Sweet Band
DESCRIPTION:Adam Sweet Band\n \nTaking his cue from the British blues boom sounds and rock riffs of the 60s and 70s Adam Sweet has been carving out his own territory between classic rock\, blues and Americana for over a decade. With his band he delivers brooding blues and rootsy rock\, balancing richly detailed song writing\, soulful vocals and expertly piercing guitar work. \nThe Adam Sweet Band features:\nAdam Sweet – guitarist and singer-songwriter\nGarry Kroll – drums\nPaddy Blight – bass\nThomas Hughes – Hammond organ \nSince being crowned Introducing Stage winners at The Great British Rock and Blues Festival in 2023 the Adam Sweet Band have been rapidly gaining a reputation as one of the tightest units on the circuit. They have built on their success with triumphant performances at venues and festivals across the UK\, including London’s 100 Club\, the Brudenell Social Club\, Sidmouth & Rye International Jazz & Blues Festivals\, the Great British Rhythm & Blues Festival and they have supported the likes of Wishbone Ash\, Kris Barras Band and Elles Bailey. In 2025 they were nominated in the category of ‘UK Blues Emerging Act of the Year’ at the UK Blues Awards. \nIn 2024 they released the album Live At Crescent Records with the accompanying YouTube series clocking up over 80k views in the first few months of its release. \nWebsite
URL:https://bluesbartring.co.uk/event/adam-sweet-band-3/
LOCATION:Blues Bar Tring – (Doors & Bar 7.00pm Band 8.00pm)\, Tring Park Cricket Club\, London Road\, Tring\, Herts\, HP23 6HA\, United Kingdom
ATTACH;FMTTYPE=image/jpeg:https://bluesbartring.co.uk/wp-content/uploads/2025/12/Adam-Sweet-2.jpg
END:VEVENT
BEGIN:VEVENT
DTSTART;TZID=Europe/London:20261001T190000
DTEND;TZID=Europe/London:20261001T230000
DTSTAMP:20260420T194924
CREATED:20250924T173051Z
LAST-MODIFIED:20251231T171723Z
UID:9383-1790881200-1790895600@bluesbartring.co.uk
SUMMARY:Chris Corcoran Trio with Elsie Franklin
DESCRIPTION:Chris Corcoran Trio with Elsie Franklin \n \nChris Corcoran is widely regarded as one of the UK’s top blues guitarists\, with a distinctive style that blends swing\, jump blues and vintage tones with jaw-dropping technique. A regular on the UK blues circuit\, Chris has picked up multiple awards and nominations over the years\, and if you’ve ever seen him live\, you’ll know why. Backed by his superb rhythm section\, the trio delivers powerful\, all-instrumental sets that are full of groove\, energy\, and serious class. \nIn addition\, Chris will be joined by Elsie Franklin as a special guest. Elsie is a gifted guitarist and singer with a deep love for early country blues – think fingerstyle\, bottleneck slide\, and a voice full of heart. She’s been making waves on the blues scene with her authentic\, soulful performances that pay tribute to the likes of Memphis Minnie and Sister Rosetta Tharpe\, while bringing something entirely her own. \nExpect top-drawer musicianship\, irresistible rhythms\, and a night that’s full of character\, soul and proper blues spirit. \nWebsite \nElsie Franklin\n\n“Elsie Franklin is the most natural blues singer I’ve heard in years\, her guitar playing is pretty damn good too\, uncluttered and tasteful\, she really understands the genre – she’s the whole package” – Dave Kelly \n \nwebsite
URL:https://bluesbartring.co.uk/event/chris-corcoran-trio-with-elsie-franklin/
LOCATION:Blues Bar Tring – (Doors & Bar 7.00pm Band 8.00pm)\, Tring Park Cricket Club\, London Road\, Tring\, Herts\, HP23 6HA\, United Kingdom
ATTACH;FMTTYPE=image/jpeg:https://bluesbartring.co.uk/wp-content/uploads/2025/09/Chris-Corcoran-1.jpg
END:VEVENT
BEGIN:VEVENT
DTSTART;TZID=Europe/London:20261015T190000
DTEND;TZID=Europe/London:20261015T230000
DTSTAMP:20260420T194924
CREATED:20251231T173924Z
LAST-MODIFIED:20251231T174020Z
UID:9988-1792090800-1792105200@bluesbartring.co.uk
SUMMARY:Gary Fletcher Blues Band
DESCRIPTION:The Gary Fletcher Blues Band\nWe are very pleased to have them back after such a great evening last year. \nThe band are:\nGary –  acoustic and slide guitars\, banjo and ukelele\nTom Leary –  (Lindisfarne\, Feast of Fiddles\, etc) violin\nAlan Glen – (Yardbirds\, Nine Below Zero etc) harmonica\nAndy Billups –  (The Hamsters) bass\nNick Ritchie –  (Canto\, Mud) guitars\nSam Kelly –  (Tom Robinson\, Circulus) drums \nHere Gary plays his own songs on acoustic guitar. They are not a blues band playing blues by aging white Brits\, instead you have a collection of strong songs performed with taste\, intelligence and dignity with the acoustic rather than the electric guitar to the fore. There’s a nice sense of space and atmosphere throughout. \nWebsite
URL:https://bluesbartring.co.uk/event/gary-fletcher-blues-band-2/
LOCATION:Blues Bar Tring – (Doors & Bar 7.00pm Band 8.00pm)\, Tring Park Cricket Club\, London Road\, Tring\, Herts\, HP23 6HA\, United Kingdom
CATEGORIES:Gig
ATTACH;FMTTYPE=image/jpeg:https://bluesbartring.co.uk/wp-content/uploads/2021/11/Gary-Fletcher-Band.jpg
END:VEVENT
BEGIN:VEVENT
DTSTART;TZID=Europe/London:20261105T190000
DTEND;TZID=Europe/London:20261105T230000
DTSTAMP:20260420T194924
CREATED:20251101T143105Z
LAST-MODIFIED:20251231T171648Z
UID:9630-1793905200-1793919600@bluesbartring.co.uk
SUMMARY:Aisha Khan & The Rajahs
DESCRIPTION:Aisha Khan & The Rajahs \n \nBritish singer Aisha Khan is blessed with a voice that echoes both the glamour and grit of a bygone era. \nAisha Khan sings American roots music\, jazz\, and rhythm & blues of the 1940s/50s. With a nod to the glamour and sophistication of a bygone era and with over 30 years of experience\, coupled with an unrivalled passion for the music. \nShe combines outstanding original material with powerful cover versions and performs them all with class\, soul\, talent and wit.  \nAisha communicates heartbreak\, joy and a range of emotions in-between\, honouring the tradition of the past divas \nAisha Khan & The Rajahs’ album The Magnificent Twelve on Folc Records is a collection of twelve duets with some of Aisha’s favourite singers and musical heroes. \nThe publication Eastern Eye says ‘she is known for her evocative vocals\, magnetic stage presence and deep reverence for the great female vocalists of the past’. \nFacebook
URL:https://bluesbartring.co.uk/event/aisha-khan-the-rajahs/
LOCATION:Blues Bar Tring – (Doors & Bar 7.00pm Band 8.00pm)\, Tring Park Cricket Club\, London Road\, Tring\, Herts\, HP23 6HA\, United Kingdom
ATTACH;FMTTYPE=image/jpeg:https://bluesbartring.co.uk/wp-content/uploads/2025/11/Aisha-Khan-4a.jpg
END:VEVENT
BEGIN:VEVENT
DTSTART;TZID=Europe/London:20261119T190000
DTEND;TZID=Europe/London:20261119T230000
DTSTAMP:20260420T194924
CREATED:20251231T174339Z
LAST-MODIFIED:20251231T175917Z
UID:9991-1795114800-1795129200@bluesbartring.co.uk
SUMMARY:Mississippi MacDonald
DESCRIPTION:Mississippi MacDonald \nBack by popular demand after his great show for us back in 2024\nMississippi MacDonald is a three times British Blues Awards nominee\, from London. He has been playing since he was 11 years old and has travelled extensively on the US blues trail\, meeting\, amongst others\, Pinetop Perkins\, Willie Big Eyes Smith\, Otis Clay and BB King. In 2010\, he was part of the team that purchased a gravestone for the late Hi Records recording artist and soul legend\, OV Wright. \nHis seven albums have had significant international airplay and coverage\, making the top 10 of the British Blues charts on four occasions.\nPaul Jones described him as “splendid…..really really excellent”.\nBlues In Britain magazine praised “…Mississippi’s Albert Collins’ flavoured guitar work….blistering. Soulful vocals and excellent fretwork. Genuine blues\, played with passion and hugely appreciated”. \nIn 2021 he was signed to APM Records\, and his album Do Right\, Say Right was released to critical acclaim. \nListen to Oli ‘Mississippi Macdonald talking to Steve James\nClick Here \nWebsite \n \n \n \n \nWebsite \n 
URL:https://bluesbartring.co.uk/event/mississippi-macdonald-2-3/
LOCATION:Blues Bar Tring – (Doors & Bar 7.00pm Band 8.00pm)\, Tring Park Cricket Club\, London Road\, Tring\, Herts\, HP23 6HA\, United Kingdom
CATEGORIES:Gig
ATTACH;FMTTYPE=image/jpeg:https://bluesbartring.co.uk/wp-content/uploads/2021/11/Mississippi-Macdonald_photographer-credit-Alan-Dunkley-scaled.jpg
END:VEVENT
BEGIN:VEVENT
DTSTART;TZID=Europe/London:20261217T190000
DTEND;TZID=Europe/London:20261217T230000
DTSTAMP:20260420T194924
CREATED:20251018T105153Z
LAST-MODIFIED:20251231T175337Z
UID:9545-1797534000-1797548400@bluesbartring.co.uk
SUMMARY:The Looters plus special guest
DESCRIPTION:The Looters plus special guest \n \nJeff Savage – Vox\, harp\, guitar\nDzal Martin – Vox\, guitars\nJohn Gordon – Bass\, B Vox\nJim Russell – Drums\nSteve Oakman – keyboards \nPlaying Live Music >From The 60’s & 70’s\, Blisterin’ Rhythm ‘n’ Blues\, Rock n Roll\, Soul and Classic Pop \nThe Looters are a London based 60’s and 70’s covers band averaging over 100 gigs a year. Playing well known songs from the 60’s & 70’s ranging from Buddy Holly\, The Stones\, Clapton\, The Beatles\, Creedence Clearwater Revival to Bob Marley\, Bill Withers\, Otis Redding\, James Brown\, The Temptations\, The Box Tops and The Pirates to name but a few. \nWhat have the following acts got in common ?\nSir Bob Geldof\, Alan Price Set\, Paul Young\, Chrissie Hynde\, Meatloaf\, The Equals\, Vanity Fair\, Chris Farlowe\, Van Morrison\, Whitney Houston to name but a few: They have all played with or still playing with members of The Looters !!!
URL:https://bluesbartring.co.uk/event/the-looters-plus-support-3/
LOCATION:Blues Bar Tring – (Doors & Bar 7.00pm Band 8.00pm)\, Tring Park Cricket Club\, London Road\, Tring\, Herts\, HP23 6HA\, United Kingdom
CATEGORIES:Gig
ATTACH;FMTTYPE=image/jpeg:https://bluesbartring.co.uk/wp-content/uploads/2022/10/Looters-Logo.jpg
END:VEVENT
END:VCALENDAR