BEGIN:VCALENDAR
VERSION:2.0
PRODID:-//Blues Bar Tring - ECPv6.15.16//NONSGML v1.0//EN
CALSCALE:GREGORIAN
METHOD:PUBLISH
X-ORIGINAL-URL:https://bluesbartring.co.uk
X-WR-CALDESC:Events for Blues Bar Tring
REFRESH-INTERVAL;VALUE=DURATION:PT1H
X-Robots-Tag:noindex
X-PUBLISHED-TTL:PT1H
BEGIN:VTIMEZONE
TZID:Europe/London
BEGIN:DAYLIGHT
TZOFFSETFROM:+0000
TZOFFSETTO:+0100
TZNAME:BST
DTSTART:20230326T010000
END:DAYLIGHT
BEGIN:STANDARD
TZOFFSETFROM:+0100
TZOFFSETTO:+0000
TZNAME:GMT
DTSTART:20231029T010000
END:STANDARD
BEGIN:DAYLIGHT
TZOFFSETFROM:+0000
TZOFFSETTO:+0100
TZNAME:BST
DTSTART:20240331T010000
END:DAYLIGHT
BEGIN:STANDARD
TZOFFSETFROM:+0100
TZOFFSETTO:+0000
TZNAME:GMT
DTSTART:20241027T010000
END:STANDARD
BEGIN:DAYLIGHT
TZOFFSETFROM:+0000
TZOFFSETTO:+0100
TZNAME:BST
DTSTART:20250330T010000
END:DAYLIGHT
BEGIN:STANDARD
TZOFFSETFROM:+0100
TZOFFSETTO:+0000
TZNAME:GMT
DTSTART:20251026T010000
END:STANDARD
END:VTIMEZONE
BEGIN:VEVENT
DTSTART;TZID=Europe/London:20240704T190000
DTEND;TZID=Europe/London:20240704T230000
DTSTAMP:20260420T231807
CREATED:20240117T095000Z
LAST-MODIFIED:20240603T191913Z
UID:6708-1720119600-1720134000@bluesbartring.co.uk
SUMMARY:Martin Harley
DESCRIPTION:Martin Harley \n \nMartin Harley created a deep impression on the acoustic blues roots and Americana scene but these days he takes county blues riffs to the electric bottleneck slide guitar\, served up with sweet vocal harmonies over the driving rhythms.\nIf success can be measured by growing global demand to attend Martin’s dynamic live performances then perhaps his touring schedule is proof of that. \nMartin has been making music and touring the world for over two decades. His sound has never been more down to earth. Exploring roots\, blues and slide guitar in a style The Guardian referred to as ‘Spellbinding’.\nHe has released eight albums to date\, four recorded on home soil and four across the Atlantic in Texas and Nashville. \nWebsite
URL:https://bluesbartring.co.uk/event/martin-harley/
LOCATION:Herts
CATEGORIES:Gig
ATTACH;FMTTYPE=image/jpeg:https://bluesbartring.co.uk/wp-content/uploads/2022/09/Martin-Harley.jpg
END:VEVENT
END:VCALENDAR