BEGIN:VCALENDAR
VERSION:2.0
PRODID:-//Blues Bar Tring - ECPv6.15.16//NONSGML v1.0//EN
CALSCALE:GREGORIAN
METHOD:PUBLISH
X-WR-CALNAME:Blues Bar Tring
X-ORIGINAL-URL:https://bluesbartring.co.uk
X-WR-CALDESC:Events for Blues Bar Tring
REFRESH-INTERVAL;VALUE=DURATION:PT1H
X-Robots-Tag:noindex
X-PUBLISHED-TTL:PT1H
BEGIN:VTIMEZONE
TZID:Europe/London
BEGIN:DAYLIGHT
TZOFFSETFROM:+0000
TZOFFSETTO:+0100
TZNAME:BST
DTSTART:20250330T010000
END:DAYLIGHT
BEGIN:STANDARD
TZOFFSETFROM:+0100
TZOFFSETTO:+0000
TZNAME:GMT
DTSTART:20251026T010000
END:STANDARD
BEGIN:DAYLIGHT
TZOFFSETFROM:+0000
TZOFFSETTO:+0100
TZNAME:BST
DTSTART:20260329T010000
END:DAYLIGHT
BEGIN:STANDARD
TZOFFSETFROM:+0100
TZOFFSETTO:+0000
TZNAME:GMT
DTSTART:20261025T010000
END:STANDARD
BEGIN:DAYLIGHT
TZOFFSETFROM:+0000
TZOFFSETTO:+0100
TZNAME:BST
DTSTART:20270328T010000
END:DAYLIGHT
BEGIN:STANDARD
TZOFFSETFROM:+0100
TZOFFSETTO:+0000
TZNAME:GMT
DTSTART:20271031T010000
END:STANDARD
END:VTIMEZONE
BEGIN:VEVENT
DTSTART;TZID=Europe/London:20260903T190000
DTEND;TZID=Europe/London:20260903T230000
DTSTAMP:20260420T143631
CREATED:20251018T101838Z
LAST-MODIFIED:20251231T172029Z
UID:9535-1788462000-1788476400@bluesbartring.co.uk
SUMMARY:An Evening with Ma Bessie
DESCRIPTION:An Evening with Ma Bessie  \n \nBuilding on her passion for the Empress of the Blues\, Julia Titus performs as Ma Bessie\, sharing the music of Bessie Smith and her contemporaries with a new generation of listeners. Julia’s rich\, warm vocal sound brings classic blues and jazz tunes from the inter-war years to life\, alongside original songs and hand-picked covers. \nThis intimate new show features fresh\, unheard material while keeping all the favourites that audiences love. The Ma Bessie repertoire includes classics such as ‘Careless Love’\, ‘Send me to the ‘lectric chair’\, ‘I forgot to say I love you’ and ‘Someone is knocking my door’. \nWith sell-out performances across the UK and a growing reputation for authentic sound\, “An Evening with Ma Bessie” promises to add style\, class and excitement to your evening. \nFacebook
URL:https://bluesbartring.co.uk/event/ma-bessie-after-hours-show-friday-2/
LOCATION:Herts
CATEGORIES:Gig
ATTACH;FMTTYPE=image/jpeg:https://bluesbartring.co.uk/wp-content/uploads/2023/01/Ma-Bessie.jpg
END:VEVENT
END:VCALENDAR