BEGIN:VCALENDAR
VERSION:2.0
PRODID:-//Blues Bar Tring - ECPv6.15.16//NONSGML v1.0//EN
CALSCALE:GREGORIAN
METHOD:PUBLISH
X-WR-CALNAME:Blues Bar Tring
X-ORIGINAL-URL:https://bluesbartring.co.uk
X-WR-CALDESC:Events for Blues Bar Tring
REFRESH-INTERVAL;VALUE=DURATION:PT1H
X-Robots-Tag:noindex
X-PUBLISHED-TTL:PT1H
BEGIN:VTIMEZONE
TZID:Europe/London
BEGIN:DAYLIGHT
TZOFFSETFROM:+0000
TZOFFSETTO:+0100
TZNAME:BST
DTSTART:20250330T010000
END:DAYLIGHT
BEGIN:STANDARD
TZOFFSETFROM:+0100
TZOFFSETTO:+0000
TZNAME:GMT
DTSTART:20251026T010000
END:STANDARD
BEGIN:DAYLIGHT
TZOFFSETFROM:+0000
TZOFFSETTO:+0100
TZNAME:BST
DTSTART:20260329T010000
END:DAYLIGHT
BEGIN:STANDARD
TZOFFSETFROM:+0100
TZOFFSETTO:+0000
TZNAME:GMT
DTSTART:20261025T010000
END:STANDARD
BEGIN:DAYLIGHT
TZOFFSETFROM:+0000
TZOFFSETTO:+0100
TZNAME:BST
DTSTART:20270328T010000
END:DAYLIGHT
BEGIN:STANDARD
TZOFFSETFROM:+0100
TZOFFSETTO:+0000
TZNAME:GMT
DTSTART:20271031T010000
END:STANDARD
END:VTIMEZONE
BEGIN:VEVENT
DTSTART;TZID=Europe/London:20260115T200000
DTEND;TZID=Europe/London:20260115T230000
DTSTAMP:20260420T094918
CREATED:20250910T104207Z
LAST-MODIFIED:20251231T172645Z
UID:9272-1768507200-1768518000@bluesbartring.co.uk
SUMMARY:Ash Lambe & The 32-20’s and Dom Glynn
DESCRIPTION:Ash Lambe & The 32-20’s with Support from Dom Glynn\n \nAsh Lambe & The 32-20’s are a London Based Chicago blues band and were born out of a mutual love of the blues\, and in particular the raw and electric sounds of Chicago blues.  \nDrawing inspiration from the greats such as Muddy Waters\, Elmore James\, Jimmy Reed\, Eddie Taylor\, Hound Dog Taylor to name but a few\, Ash Lambe & The 32-20’s put their spin on the blues\, while trying to stay true to the music and do it the justice it rightly deserves. \nAsh Lambe – Vocals & Lead Guitar\nCraig Rattray – bass\nJohnny Harpo – Harmonica\nBen Peartson – Drums \nWebsite \n \nDom Glynn\n \nCountry’s founding fathers would be proud of the sort of vintage two-steppin’ tunes that Dom Glynn plays. \n In his early twenties\, this singing\, guitar-slinging Brit was already living for and off music\, playing endless sets of songs by his American heroes in music bars and venues in and around London. He’s since mastered the canon of classic country music and has been inspired to write his own future standards. It’s a sound and vibe that gets people drinking\, dancing\, and simply having a great time \nOn his new album his songwriting echoes the spirit of legends like Johnny Cash and Hank Williams Sr.\, while his guitar work recalls the elegant fingerpicking of Mississippi John Hurt and Doc Watson. \nFacebook
URL:https://bluesbartring.co.uk/event/ash-lambe-the-32-20s-and-dom-glynn/
LOCATION:Blues Bar Tring – (Doors & Bar 7.00pm Band 8.00pm)\, Tring Park Cricket Club\, London Road\, Tring\, Herts\, HP23 6HA\, United Kingdom
ATTACH;FMTTYPE=image/jpeg:https://bluesbartring.co.uk/wp-content/uploads/2025/09/Ash-Lambe-anb.jpg
END:VEVENT
END:VCALENDAR