BEGIN:VCALENDAR
VERSION:2.0
PRODID:-//Blues Bar Tring - ECPv6.15.16//NONSGML v1.0//EN
CALSCALE:GREGORIAN
METHOD:PUBLISH
X-ORIGINAL-URL:https://bluesbartring.co.uk
X-WR-CALDESC:Events for Blues Bar Tring
REFRESH-INTERVAL;VALUE=DURATION:PT1H
X-Robots-Tag:noindex
X-PUBLISHED-TTL:PT1H
BEGIN:VTIMEZONE
TZID:Europe/London
BEGIN:DAYLIGHT
TZOFFSETFROM:+0000
TZOFFSETTO:+0100
TZNAME:BST
DTSTART:20230326T010000
END:DAYLIGHT
BEGIN:STANDARD
TZOFFSETFROM:+0100
TZOFFSETTO:+0000
TZNAME:GMT
DTSTART:20231029T010000
END:STANDARD
BEGIN:DAYLIGHT
TZOFFSETFROM:+0000
TZOFFSETTO:+0100
TZNAME:BST
DTSTART:20240331T010000
END:DAYLIGHT
BEGIN:STANDARD
TZOFFSETFROM:+0100
TZOFFSETTO:+0000
TZNAME:GMT
DTSTART:20241027T010000
END:STANDARD
BEGIN:DAYLIGHT
TZOFFSETFROM:+0000
TZOFFSETTO:+0100
TZNAME:BST
DTSTART:20250330T010000
END:DAYLIGHT
BEGIN:STANDARD
TZOFFSETFROM:+0100
TZOFFSETTO:+0000
TZNAME:GMT
DTSTART:20251026T010000
END:STANDARD
END:VTIMEZONE
BEGIN:VEVENT
DTSTART;TZID=Europe/London:20241107T190000
DTEND;TZID=Europe/London:20241107T230000
DTSTAMP:20260423T151344
CREATED:20230817T154346Z
LAST-MODIFIED:20241002T143653Z
UID:5916-1731006000-1731020400@bluesbartring.co.uk
SUMMARY:James Oliver Band
DESCRIPTION:The James Oliver Band \nThis is a must see band\n“He’s regarded as a force of nature in his native Wales\, an R&B icon in Sweden\, and a guitar hero to his social media fans” – Blues in Britain Magazine \nJames Oliver is one of the UK’s busiest acts playing over 300 gigs a year (sometimes two gigs in one day) all over the UK\, Europe\, and the USA!\nIn 2020 James won the UK Blues Awards Emerging Artist of the Year and has been nominated an additional three times. \nHis contemporary’s say it all\n“James is a passionate roots rocker loaded with guitar firepower.” – Bill Kirchen – guitar legend\n“If you want to see energy times 10 with the greasiest of rockabilly fire and flair\, this is the guy to see!” – Redd Volkaert (Grammy Award winning guitarist for Merle Haggard)\n“James Oliver wields the Telecaster with extreme aplomb and is highly entertaining to boot.” – Greg Koch (Guitar legend)\n“An incredibly inventive and exciting guitarist” – Music Republic Magazine \nThe new album is now available and appropriately titled:\n \nwebsite \nJames Oliver – YouTube Channel
URL:https://bluesbartring.co.uk/event/james-oliver-band/
LOCATION:Blues Bar Tring – (Doors & Bar 7.00pm\, Band 8.30pm)\, Tring Park Cricket Club\, London Road\, Tring\, Hertfordshire\, HP23 6HA\, United Kingdom
ATTACH;FMTTYPE=image/jpeg:https://bluesbartring.co.uk/wp-content/uploads/2023/08/James-Oliver-2023.jpg
END:VEVENT
END:VCALENDAR